BEGIN:VCALENDAR
VERSION:2.0
PRODID:-//85.13.139.29//NONSGML kigkonsult.se iCalcreator 2.20//
CALSCALE:GREGORIAN
METHOD:PUBLISH
X-WR-TIMEZONE:Europe/Berlin
BEGIN:VEVENT
UID:event141@Provinzdorf Nemt
DTSTAMP:20260421T235947Z
CATEGORIES:Heimatverein
DESCRIPTION:100 Jahre Goldenes Tälchen\nKategorie: Heimatverein\nICS-Link: 
 https://nemt.de/index.php?option=com_jem&view=event&id=141:100-jahre-golde
 nes-taelchen\n
DTSTART;VALUE=DATE:20260530
DTEND;VALUE=DATE:20260531
LOCATION:Dehnitz\,Germany
SUMMARY:100 Jahre Goldenes Tälchen
URL:https://nemt.de/index.php?option=com_jem&view=event&id=141:100-jahre-go
 ldenes-taelchen
END:VEVENT
BEGIN:VEVENT
UID:event143@Provinzdorf Nemt
DTSTAMP:20260421T235947Z
CATEGORIES:Heimatverein
DESCRIPTION:Nemter Dorffest\nKategorie: Heimatverein\nICS-Link: https://nem
 t.de/index.php?option=com_jem&view=event&id=143:nemter-dorffest\n
DTSTART;VALUE=DATE:20260904
DTEND;VALUE=DATE:20260907
LOCATION:Sportplatz Nemt\,Zum Sportplatz\,04808\,Germany
SUMMARY:Nemter Dorffest
URL:https://nemt.de/index.php?option=com_jem&view=event&id=143:nemter-dorff
 est
END:VEVENT
BEGIN:VEVENT
UID:event135@Provinzdorf Nemt
DTSTAMP:20260421T235947Z
CATEGORIES:Wirtschaft
DESCRIPTION:27. Hoffest Landgut Nemt\nKategorie: Wirtschaft\nICS-Link: http
 s://nemt.de/index.php?option=com_jem&view=event&id=135:27-hoffest-landgut-
 nemt\n
DTSTART;TZID=Europe/Berlin:20260510T100000
DTEND;TZID=Europe/Berlin:20260510T100000
LOCATION:Landgut-Nemt\,Schulweg\,04808\,Germany
SUMMARY:27. Hoffest Landgut Nemt
URL:https://nemt.de/index.php?option=com_jem&view=event&id=135:27-hoffest-l
 andgut-nemt
END:VEVENT
BEGIN:VEVENT
UID:event147@Provinzdorf Nemt
DTSTAMP:20260421T235947Z
CATEGORIES:Heimatverein
DESCRIPTION:Kaffeklatsch mit Ortschronik\nKategorie: Heimatverein\nICS-Link
 : https://nemt.de/index.php?option=com_jem&view=event&id=147:kaffeklatsch-
 mit-ortschronik\n
DTSTART;TZID=Europe/Berlin:20261122T150000
DTEND;TZID=Europe/Berlin:20261122T180000
LOCATION:Gemeindesaal Nemt\,Alte Poststraße 47\,04808\,Germany
SUMMARY:Kaffeklatsch mit Ortschronik
URL:https://nemt.de/index.php?option=com_jem&view=event&id=147:kaffeklatsch
 -mit-ortschronik
END:VEVENT
BEGIN:VEVENT
UID:event148@Provinzdorf Nemt
DTSTAMP:20260421T235947Z
CATEGORIES:Heimatverein
DESCRIPTION:Nemter Weihnachtsmarkt\nKategorie: Heimatverein\nICS-Link: http
 s://nemt.de/index.php?option=com_jem&view=event&id=148:nemter-weihnachtsma
 rkt\n
DTSTART;TZID=Europe/Berlin:20261205T150000
DTEND;TZID=Europe/Berlin:20261205T150000
LOCATION:Feuerwehr Nemt\,Schulweg\,04808\,Germany
SUMMARY:Nemter Weihnachtsmarkt
URL:https://nemt.de/index.php?option=com_jem&view=event&id=148:nemter-weihn
 achtsmarkt
END:VEVENT
BEGIN:VEVENT
UID:event134@Provinzdorf Nemt
DTSTAMP:20260421T235947Z
CATEGORIES:Heimatverein
DESCRIPTION:Hexenfest\nKategorie: Heimatverein\nICS-Link: https://nemt.de/i
 ndex.php?option=com_jem&view=event&id=134:hexenfest\n
DTSTART;TZID=Europe/Berlin:20260430T180000
DTEND;TZID=Europe/Berlin:20260430T180000
LOCATION:Keilhauers Hexentanzplatz
SUMMARY:Hexenfest
URL:https://nemt.de/index.php?option=com_jem&view=event&id=134:hexenfest
END:VEVENT
BEGIN:VEVENT
UID:event144@Provinzdorf Nemt
DTSTAMP:20260421T235947Z
CATEGORIES:Heimatverein
DESCRIPTION:Mitgliederversammlung Heimatverein\nKategorie: Heimatverein\nIC
 S-Link: https://nemt.de/index.php?option=com_jem&view=event&id=144:mitglie
 derversammlung-heimatverein\n
DTSTART;TZID=Europe/Berlin:20261030T180000
DTEND;TZID=Europe/Berlin:20261030T180000
LOCATION:Gemeindesaal Nemt\,Alte Poststraße 47\,04808\,Germany
SUMMARY:Mitgliederversammlung Heimatverein
URL:https://nemt.de/index.php?option=com_jem&view=event&id=144:mitgliederve
 rsammlung-heimatverein
END:VEVENT
BEGIN:VEVENT
UID:event140@Provinzdorf Nemt
DTSTAMP:20260421T235947Z
CATEGORIES:Ortschaftsrat
DESCRIPTION:Ortschaftsrat\nKategorie: Ortschaftsrat\nICS-Link: https://nemt
 .de/index.php?option=com_jem&view=event&id=140:ortschaftsrat\n
DTSTART;TZID=Europe/Berlin:20261119T190000
DTEND;TZID=Europe/Berlin:20261119T190000
LOCATION:Gemeindesaal Nemt\,Alte Poststraße 47\,04808\,Germany
SUMMARY:Ortschaftsrat
URL:https://nemt.de/index.php?option=com_jem&view=event&id=140:ortschaftsra
 t
END:VEVENT
BEGIN:VEVENT
UID:event142@Provinzdorf Nemt
DTSTAMP:20260421T235947Z
CATEGORIES:Heimatverein
DESCRIPTION:Vereinsstammtisch\nKategorie: Heimatverein\nICS-Link: https://n
 emt.de/index.php?option=com_jem&view=event&id=142:vereinsstammtisch\n
DTSTART;TZID=Europe/Berlin:20260821T190000
DTEND;TZID=Europe/Berlin:20260821T190000
LOCATION:Gemeindesaal Nemt\,Alte Poststraße 47\,04808\,Germany
SUMMARY:Vereinsstammtisch
URL:https://nemt.de/index.php?option=com_jem&view=event&id=142:vereinsstamm
 tisch
END:VEVENT
BEGIN:VEVENT
UID:event136@Provinzdorf Nemt
DTSTAMP:20260421T235947Z
CATEGORIES:Ortschaftsrat
DESCRIPTION:Ortschaftsrat\nKategorie: Ortschaftsrat\nICS-Link: https://nemt
 .de/index.php?option=com_jem&view=event&id=136:ortschaftsrat\n
DTSTART;TZID=Europe/Berlin:20260604T193000
DTEND;TZID=Europe/Berlin:20260604T193000
LOCATION:Gemeindesaal Nemt\,Alte Poststraße 47\,04808\,Germany
SUMMARY:Ortschaftsrat
URL:https://nemt.de/index.php?option=com_jem&view=event&id=136:ortschaftsra
 t
END:VEVENT
BEGIN:VEVENT
UID:event137@Provinzdorf Nemt
DTSTAMP:20260421T235947Z
CATEGORIES:Ortschaftsrat
DESCRIPTION:Ortschaftsrat\nKategorie: Ortschaftsrat\nICS-Link: https://nemt
 .de/index.php?option=com_jem&view=event&id=137:ortschaftsrat\n
DTSTART;TZID=Europe/Berlin:20260813T193000
DTEND;TZID=Europe/Berlin:20260813T193000
LOCATION:Gemeindesaal Nemt\,Alte Poststraße 47\,04808\,Germany
SUMMARY:Ortschaftsrat
URL:https://nemt.de/index.php?option=com_jem&view=event&id=137:ortschaftsra
 t
END:VEVENT
BEGIN:VEVENT
UID:event139@Provinzdorf Nemt
DTSTAMP:20260421T235947Z
CATEGORIES:Ortschaftsrat
DESCRIPTION:Ortschaftsrat\nKategorie: Ortschaftsrat\nICS-Link: https://nemt
 .de/index.php?option=com_jem&view=event&id=139:ortschaftsrat\n
DTSTART;TZID=Europe/Berlin:20261001T193000
DTEND;TZID=Europe/Berlin:20261001T193000
LOCATION:Gemeindesaal Nemt\,Alte Poststraße 47\,04808\,Germany
SUMMARY:Ortschaftsrat
URL:https://nemt.de/index.php?option=com_jem&view=event&id=139:ortschaftsra
 t
END:VEVENT
BEGIN:VEVENT
UID:event145@Provinzdorf Nemt
DTSTAMP:20260421T235947Z
CATEGORIES:Heimatverein
DESCRIPTION:Bärchenball\nKategorie: Heimatverein\nICS-Link: https://nemt.de
 /index.php?option=com_jem&view=event&id=145:baerchenball\n
DTSTART;TZID=Europe/Berlin:20261107T200000
DTEND;TZID=Europe/Berlin:20261107T200000
LOCATION:Gemeindesaal Nemt\,Alte Poststraße 47\,04808\,Germany
SUMMARY:Bärchenball
URL:https://nemt.de/index.php?option=com_jem&view=event&id=145:baerchenball
END:VEVENT
END:VCALENDAR