BEGIN:VCALENDAR
VERSION:2.0
PRODID:-//85.13.139.29//NONSGML kigkonsult.se iCalcreator 2.20//
CALSCALE:GREGORIAN
METHOD:PUBLISH
X-WR-TIMEZONE:Europe/Berlin
BEGIN:VEVENT
UID:event141@Provinzdorf Nemt
DTSTAMP:20260419T223030Z
CATEGORIES:Heimatverein
DESCRIPTION:100 Jahre Goldenes Tälchen\nKategorie: Heimatverein\nICS-Link: 
 https://nemt.de/index.php?option=com_jem&view=event&id=141:100-jahre-golde
 nes-taelchen\n
DTSTART;VALUE=DATE:20260530
DTEND;VALUE=DATE:20260531
LOCATION:Dehnitz\,Germany
SUMMARY:100 Jahre Goldenes Tälchen
URL:https://nemt.de/index.php?option=com_jem&view=event&id=141:100-jahre-go
 ldenes-taelchen
END:VEVENT
END:VCALENDAR