BEGIN:VCALENDAR
VERSION:2.0
PRODID:-//85.13.139.29//NONSGML kigkonsult.se iCalcreator 2.20//
CALSCALE:GREGORIAN
METHOD:PUBLISH
X-WR-TIMEZONE:Europe/Berlin
BEGIN:VEVENT
UID:event144@Provinzdorf Nemt
DTSTAMP:20260419T223234Z
CATEGORIES:Heimatverein
DESCRIPTION:Mitgliederversammlung Heimatverein\nKategorie: Heimatverein\nIC
 S-Link: https://nemt.de/index.php?option=com_jem&view=event&id=144:mitglie
 derversammlung-heimatverein\n
DTSTART;TZID=Europe/Berlin:20261030T180000
DTEND;TZID=Europe/Berlin:20261030T180000
LOCATION:Gemeindesaal Nemt\,Alte Poststraße 47\,04808
SUMMARY:Mitgliederversammlung Heimatverein
URL:https://nemt.de/index.php?option=com_jem&view=event&id=144:mitgliederve
 rsammlung-heimatverein
END:VEVENT
END:VCALENDAR