BEGIN:VCALENDAR
VERSION:2.0
PRODID:-//85.13.139.29//NONSGML kigkonsult.se iCalcreator 2.20//
CALSCALE:GREGORIAN
METHOD:PUBLISH
X-WR-TIMEZONE:Europe/Berlin
BEGIN:VEVENT
UID:event139@Provinzdorf Nemt
DTSTAMP:20260419T195322Z
CATEGORIES:Ortschaftsrat
DESCRIPTION:Ortschaftsrat\nKategorie: Ortschaftsrat\nICS-Link: https://nemt
 .de/index.php?option=com_jem&view=event&id=139:ortschaftsrat\n
DTSTART;TZID=Europe/Berlin:20261001T193000
DTEND;TZID=Europe/Berlin:20261001T193000
LOCATION:Gemeindesaal Nemt\,Alte Poststraße 47\,04808
SUMMARY:Ortschaftsrat
URL:https://nemt.de/index.php?option=com_jem&view=event&id=139:ortschaftsra
 t
END:VEVENT
END:VCALENDAR